BEGIN:VCALENDAR
VERSION:2.0
PRODID:-//Startseite - ECPv6.15.20//NONSGML v1.0//EN
CALSCALE:GREGORIAN
METHOD:PUBLISH
X-WR-CALNAME:Startseite
X-ORIGINAL-URL:https://gv-rottweil.de
X-WR-CALDESC:Veranstaltungen für Startseite
REFRESH-INTERVAL;VALUE=DURATION:PT1H
X-Robots-Tag:noindex
X-PUBLISHED-TTL:PT1H
BEGIN:VTIMEZONE
TZID:Europe/Berlin
BEGIN:DAYLIGHT
TZOFFSETFROM:+0100
TZOFFSETTO:+0200
TZNAME:CEST
DTSTART:20240331T010000
END:DAYLIGHT
BEGIN:STANDARD
TZOFFSETFROM:+0200
TZOFFSETTO:+0100
TZNAME:CET
DTSTART:20241027T010000
END:STANDARD
BEGIN:DAYLIGHT
TZOFFSETFROM:+0100
TZOFFSETTO:+0200
TZNAME:CEST
DTSTART:20250330T010000
END:DAYLIGHT
BEGIN:STANDARD
TZOFFSETFROM:+0200
TZOFFSETTO:+0100
TZNAME:CET
DTSTART:20251026T010000
END:STANDARD
BEGIN:DAYLIGHT
TZOFFSETFROM:+0100
TZOFFSETTO:+0200
TZNAME:CEST
DTSTART:20260329T010000
END:DAYLIGHT
BEGIN:STANDARD
TZOFFSETFROM:+0200
TZOFFSETTO:+0100
TZNAME:CET
DTSTART:20261025T010000
END:STANDARD
END:VTIMEZONE
BEGIN:VEVENT
DTSTART;TZID=Europe/Berlin:20250801T170000
DTEND;TZID=Europe/Berlin:20250801T170000
DTSTAMP:20260421T224312
CREATED:20240117T121650Z
LAST-MODIFIED:20250112T091714Z
UID:1377-1754067600-1754067600@gv-rottweil.de
SUMMARY:Feierabendtreff
DESCRIPTION:ab 17 Uhr (es gibt warmes Abendessen). Jeder ist herzlich willkommen!
URL:https://gv-rottweil.de/event/feierabendtreff-5/
LOCATION:Gehörlosenzentrum Rottweil\, Johanniterstrasse 35\, Rottweil\, Baden-Württemberg\, 78628\, Deutschland
CATEGORIES:Gehörlosenverein
ATTACH;FMTTYPE=image/jpeg:https://gv-rottweil.de/wp-content/uploads/2024/01/hands-565602_960_720.jpg
END:VEVENT
END:VCALENDAR