BEGIN:VCALENDAR
VERSION:2.0
PRODID:-//Startseite - ECPv6.15.20//NONSGML v1.0//EN
CALSCALE:GREGORIAN
METHOD:PUBLISH
X-ORIGINAL-URL:https://gv-rottweil.de
X-WR-CALDESC:Veranstaltungen für Startseite
REFRESH-INTERVAL;VALUE=DURATION:PT1H
X-Robots-Tag:noindex
X-PUBLISHED-TTL:PT1H
BEGIN:VTIMEZONE
TZID:Europe/Berlin
BEGIN:DAYLIGHT
TZOFFSETFROM:+0100
TZOFFSETTO:+0200
TZNAME:CEST
DTSTART:20250330T010000
END:DAYLIGHT
BEGIN:STANDARD
TZOFFSETFROM:+0200
TZOFFSETTO:+0100
TZNAME:CET
DTSTART:20251026T010000
END:STANDARD
BEGIN:DAYLIGHT
TZOFFSETFROM:+0100
TZOFFSETTO:+0200
TZNAME:CEST
DTSTART:20260329T010000
END:DAYLIGHT
BEGIN:STANDARD
TZOFFSETFROM:+0200
TZOFFSETTO:+0100
TZNAME:CET
DTSTART:20261025T010000
END:STANDARD
BEGIN:DAYLIGHT
TZOFFSETFROM:+0100
TZOFFSETTO:+0200
TZNAME:CEST
DTSTART:20270328T010000
END:DAYLIGHT
BEGIN:STANDARD
TZOFFSETFROM:+0200
TZOFFSETTO:+0100
TZNAME:CET
DTSTART:20271031T010000
END:STANDARD
END:VTIMEZONE
BEGIN:VEVENT
DTSTART;TZID=Europe/Berlin:20260124T140000
DTEND;TZID=Europe/Berlin:20260124T140000
DTSTAMP:20260421T152121
CREATED:20240115T092145Z
LAST-MODIFIED:20260107T085510Z
UID:1316-1769263200-1769263200@gv-rottweil.de
SUMMARY:6. Neujahrskaffee
DESCRIPTION:14 Uhr Gottesdienst\, anschließend Sektempfang\, Kaffeezeit\, Ansprache\, Unterhaltung und Abendessen
URL:https://gv-rottweil.de/event/4-neujahrskaffee/
LOCATION:Gehörlosenzentrum Rottweil\, Johanniterstrasse 35\, Rottweil\, Baden-Württemberg\, 78628\, Deutschland
CATEGORIES:Gehörlosenverein
ATTACH;FMTTYPE=image/jpeg:https://gv-rottweil.de/wp-content/uploads/2024/01/97285416-c2be-4b84-be1f-3823dc945aeb.jpg
END:VEVENT
END:VCALENDAR