BEGIN:VCALENDAR
VERSION:2.0
PRODID:-//Startseite - ECPv6.15.20//NONSGML v1.0//EN
CALSCALE:GREGORIAN
METHOD:PUBLISH
X-WR-CALNAME:Startseite
X-ORIGINAL-URL:https://gv-rottweil.de
X-WR-CALDESC:Veranstaltungen für Startseite
REFRESH-INTERVAL;VALUE=DURATION:PT1H
X-Robots-Tag:noindex
X-PUBLISHED-TTL:PT1H
BEGIN:VTIMEZONE
TZID:Europe/Berlin
BEGIN:DAYLIGHT
TZOFFSETFROM:+0100
TZOFFSETTO:+0200
TZNAME:CEST
DTSTART:20250330T010000
END:DAYLIGHT
BEGIN:STANDARD
TZOFFSETFROM:+0200
TZOFFSETTO:+0100
TZNAME:CET
DTSTART:20251026T010000
END:STANDARD
BEGIN:DAYLIGHT
TZOFFSETFROM:+0100
TZOFFSETTO:+0200
TZNAME:CEST
DTSTART:20260329T010000
END:DAYLIGHT
BEGIN:STANDARD
TZOFFSETFROM:+0200
TZOFFSETTO:+0100
TZNAME:CET
DTSTART:20261025T010000
END:STANDARD
BEGIN:DAYLIGHT
TZOFFSETFROM:+0100
TZOFFSETTO:+0200
TZNAME:CEST
DTSTART:20270328T010000
END:DAYLIGHT
BEGIN:STANDARD
TZOFFSETFROM:+0200
TZOFFSETTO:+0100
TZNAME:CET
DTSTART:20271031T010000
END:STANDARD
END:VTIMEZONE
BEGIN:VEVENT
DTSTART;TZID=Europe/Berlin:20261204T140000
DTEND;TZID=Europe/Berlin:20261204T170000
DTSTAMP:20260422T030712
CREATED:20240117T123058Z
LAST-MODIFIED:20260107T091237Z
UID:1397-1796392800-1796403600@gv-rottweil.de
SUMMARY:Seniorentreffen mit Gottesdienst
DESCRIPTION:Nikolausfeier\n14 Uhr Gottesdienst\, Kaffeezeit\, Information und Unterhaltung
URL:https://gv-rottweil.de/event/seniorentreffen-mit-gottesdienst-11/
LOCATION:Gehörlosenzentrum Rottweil\, Johanniterstrasse 35\, Rottweil\, Baden-Württemberg\, 78628\, Deutschland
CATEGORIES:Seniorentreff mit Gottesdienst
ATTACH;FMTTYPE=image/jpeg:https://gv-rottweil.de/wp-content/uploads/2019/12/IMG_0510-e1576672127275.jpg
END:VEVENT
BEGIN:VEVENT
DTSTART;TZID=Europe/Berlin:20261204T170000
DTEND;TZID=Europe/Berlin:20261204T170000
DTSTAMP:20260422T030712
CREATED:20240117T121849Z
LAST-MODIFIED:20260107T091336Z
UID:1383-1796403600-1796403600@gv-rottweil.de
SUMMARY:Feierabendtreff
DESCRIPTION:ab 17 Uhr (es gibt warmes Abendessen). Jeder ist herzlich willkommen!
URL:https://gv-rottweil.de/event/feierabendtreff-6/
LOCATION:Gehörlosenzentrum Rottweil\, Johanniterstrasse 35\, Rottweil\, Baden-Württemberg\, 78628\, Deutschland
CATEGORIES:Gehörlosenverein
ATTACH;FMTTYPE=image/jpeg:https://gv-rottweil.de/wp-content/uploads/2024/01/hands-565602_960_720.jpg
END:VEVENT
BEGIN:VEVENT
DTSTART;TZID=Europe/Berlin:20261212T140000
DTEND;TZID=Europe/Berlin:20261212T140000
DTSTAMP:20260422T030712
CREATED:20240116T150555Z
LAST-MODIFIED:20260107T090801Z
UID:1366-1797084000-1797084000@gv-rottweil.de
SUMMARY:Weihnachtsfeier mit Gottesdienst
DESCRIPTION:14 Uhr Gottesdienst\, Kaffeezeit\, Ansprache\, Ehrungen\, Unterhaltung und Abendessen
URL:https://gv-rottweil.de/event/weihnachtsfeier-mit-gottesdienst-3/
LOCATION:Gehörlosenzentrum Rottweil\, Johanniterstrasse 35\, Rottweil\, Baden-Württemberg\, 78628\, Deutschland
CATEGORIES:Gehörlosenverein
ATTACH;FMTTYPE=image/jpeg:https://gv-rottweil.de/wp-content/uploads/2024/01/IMG_1410-scaled.jpg
END:VEVENT
END:VCALENDAR